BEGIN:VCALENDAR
VERSION:2.0
PRODID:-//Horton Lodge - ECPv6.2.3.2//NONSGML v1.0//EN
CALSCALE:GREGORIAN
METHOD:PUBLISH
X-WR-CALNAME:Horton Lodge
X-ORIGINAL-URL:https://horton-lodge.org
X-WR-CALDESC:Events for Horton Lodge
REFRESH-INTERVAL;VALUE=DURATION:PT1H
X-Robots-Tag:noindex
X-PUBLISHED-TTL:PT1H
BEGIN:VTIMEZONE
TZID:UTC
BEGIN:STANDARD
TZOFFSETFROM:+0000
TZOFFSETTO:+0000
TZNAME:UTC
DTSTART:20210101T000000
END:STANDARD
END:VTIMEZONE
BEGIN:VEVENT
DTSTART;TZID=UTC:20211120T180000
DTEND;TZID=UTC:20211120T233000
DTSTAMP:20260426T041217
CREATED:20190218T140819Z
LAST-MODIFIED:20211018T110723Z
UID:1244-1637431200-1637451000@horton-lodge.org
SUMMARY:20th November 2021 - Ladies Evening
DESCRIPTION: \nHORTON LODGE 8528 - Ladies Evening 2021\n \nThe Worshipful Master\, Bro Laurence Jones\, and his good lady Amanda\, are pleased to invite you to Horton Lodge's 2021 Ladies Evening. \nSaturday 20th November 2021 \n6:00 p.m. for 6:30 p.m. \n \n\nBanquet Menu \n\n\n\nStarter\n\nChoice A \n \nor\n  \nChoice B \n\nRoasted Stuffed Mushrooms\nServed on a bed of seasonal salad leaves and sun dried tomatoes\n \n \n \nSweet Melon and Parma Ham\nServed with wild rocket and rapeseed dressing\n \n\n\n\n\n\n\nMain Course\n\nChoice C \n \nor\n  \nChoice D \n\nBeef Olive\nServed on a bed of puree potatoes and a ruby port gravy\, with buttered cabbage and baton carrots\n \n \nGinger Salmon\nServed with a grilled corn and watercress salad\n \n\n\n\n\n\n\nDesert\n\nChoice E \n \nor\n  \nChoice F \n\nWhite Chocolate and Raspberry Roulade\nWhite chocolate mouse with raspberries\, encased by sponge in a crisp chocolate\n \n \n \nCrème Brulee\nA rich custard base topped with a layer of hardened caramelized sugar\n \n\n\n\n\n\n\n\nFollowed by\n\nCoffee and Mints\n\n\n\n\nTickets £27.50 per person - please contact social@horton-lodge.org\n \nAfter Dinner Entertainment\nTBA\n\n 
URL:https://horton-lodge.org/event/20211120-2/
LOCATION:Middleton Masonic Club\, Manchester Old Road\, Middleton\, M24 4DY
CATEGORIES:Events
ATTACH;FMTTYPE=image/jpeg:https://horton-lodge.org/wp-content/uploads/2019/02/ladies_night-resized.jpg
ORGANIZER;CN="WBro Laurence Jones":MAILTO:social@horton-lodge.org
END:VEVENT
END:VCALENDAR