BEGIN:VCALENDAR
VERSION:2.0
PRODID:-//Horton Lodge - ECPv6.2.3.2//NONSGML v1.0//EN
CALSCALE:GREGORIAN
METHOD:PUBLISH
X-WR-CALNAME:Horton Lodge
X-ORIGINAL-URL:https://horton-lodge.org
X-WR-CALDESC:Events for Horton Lodge
REFRESH-INTERVAL;VALUE=DURATION:PT1H
X-Robots-Tag:noindex
X-PUBLISHED-TTL:PT1H
BEGIN:VTIMEZONE
TZID:UTC
BEGIN:STANDARD
TZOFFSETFROM:+0000
TZOFFSETTO:+0000
TZNAME:UTC
DTSTART:20240101T000000
END:STANDARD
END:VTIMEZONE
BEGIN:VEVENT
DTSTART;TZID=UTC:20240102T180000
DTEND;TZID=UTC:20240102T223000
DTSTAMP:20260424T122216
CREATED:20231212T150708Z
LAST-MODIFIED:20231212T154516Z
UID:1919-1704218400-1704234600@horton-lodge.org
SUMMARY:2nd January 2024
DESCRIPTION: \n  \n\n \nDear Sir and Brother\, \nBy command of the Worshipful Master\, Bro Adam Mooney\, I request your attendance at the Regular Meeting of this Lodge at Middleton Masonic Club\, Manchester Old Road\, Middleton\, Manchester\, M24 4DY \nIf you are a mason and interested in visiting Horton Lodge please contact our Lodge Secretary who will be pleased to help. \n\n \nDARK SUIT - WHITE GLOVES \nPlease note we Tyle at 6:00pm \n\n \nBUSINESS \n\nTo open the Lodge\nTo read and if approved confirm the minutes of the last Regular Meeting\nTo ballot for a re-joining Brother\nTo ballot for a joining Brother\nTo ballot for a joining Worshipful Brother\nTo propose a candidate for initiation\nAlmoner’s report\nDistrict Representative’s report\nDirector's report\nTo collect Alms\nTo transact any other business\nTo close the Lodge\n\n\nThe next meeting of Provincial Grand Lodge after this lodge meeting will be in 21st November 2024 at King George's Hall\, Blackburn \n\n  \n\n\n \nSocial Board Menu \n\nStarter : Fruit Platter\nMain : Sausage and mash in a giant Yorkshire Pudding\nDesert : Ice Cream special\nFollowed Tea and Coffee\n\n\nPlease inform the Lodge Secretary of any dietary requirements a minimum of 7 days prior to the lodge meeting \n \n\n \nWorshipful Master and IPM 2023 - 2024 \n\n\n\nBro Adam Mooney\nWorshipful Master\n\n\nWBro Laurence Jones\nIPM\n\n\n\nOFFICERS 2023 - 2024 \n\n\n\nWBro Ray Taylor\nSenior Warden\n\n\nBro Ian Duncan\nJunior Warden\n\n\nWBro Laurence Jones\nChaplain\n\n\nWBro Derek Andrews\nTreasurer\n\n\nWBro Roger Norris\nSecretary\n\n\nWBro Neil Brown\nDirector of Ceremonies\n\n\nWBro Ray Taylor\nAlmoner\n\n\nBro Ian Duncan\nCharity Steward\n\n\nWbro Jimmy Burns\nLodge Mentor\n\n\nBro Anthony Burton\nSenior Deacon\n\n\nWBro Bob Wall\nJunior Deacon\n\n\nBro Robin Whalley\nAssistant Secretary\n\n\nBro Duncan Bray\nInner Guard\n\n\nWBro Gordon Cox\nTyler\n\n\nWBro Laurence Jones\nDistrict Representative\n\n\n\n \n \n \n&nbsp:
URL:https://horton-lodge.org/event/2nd-january-2024/
LOCATION:Middleton Masonic Club\, Manchester Old Road\, Middleton\, M24 4DY
CATEGORIES:Meetings
ATTACH;FMTTYPE=image/png:https://horton-lodge.org/wp-content/uploads/2015/12/Horton-Logo.png
END:VEVENT
END:VCALENDAR