BEGIN:VCALENDAR
VERSION:2.0
PRODID:-//Horton Lodge - ECPv6.2.3.2//NONSGML v1.0//EN
CALSCALE:GREGORIAN
METHOD:PUBLISH
X-WR-CALNAME:Horton Lodge
X-ORIGINAL-URL:https://horton-lodge.org
X-WR-CALDESC:Events for Horton Lodge
REFRESH-INTERVAL;VALUE=DURATION:PT1H
X-Robots-Tag:noindex
X-PUBLISHED-TTL:PT1H
BEGIN:VTIMEZONE
TZID:UTC
BEGIN:STANDARD
TZOFFSETFROM:+0000
TZOFFSETTO:+0000
TZNAME:UTC
DTSTART:20240101T000000
END:STANDARD
END:VTIMEZONE
BEGIN:VEVENT
DTSTART;TZID=UTC:20240120T180000
DTEND;TZID=UTC:20240120T233000
DTSTAMP:20260424T122205
CREATED:20230722T075510Z
LAST-MODIFIED:20240102T125829Z
UID:1877-1705773600-1705793400@horton-lodge.org
SUMMARY:Saturday 20th January 2024 - Burns' Night
DESCRIPTION:HORTON LODGE 8528 - Burns' Night 2024\nSaturday 20th January\n6:00 p.m. for 6:30 p.m. \nHorton Lodge\, 8528\, invite you to join us at our annual Burns' Night celebration.   \nDress code is Smart Casual or Tartan. \nBUY TICKETS\nBanquet Menu\n \n\n\n \nHaggis\, Neeps and Tatties\n\n\n\n\nStarter\nScotch Broth\n\n\n\n\nMain - A\nRoast Beef & Yorkshire Pudding - served with herb roasted potatoes and seasonal vegetables\n\n\n\nMain - B\nVegetarian - Not-beef Wellington\n\n\n\n\nDessert\nRaspberry Pavlova\n\n\n\n\n\nCoffee and Mints\n\n\n\n \nTickets £40  per person \nBUY TICKETS\nAfter Dinner Entertainment\n \nScots Guards Pipe Band\n \nFollowed by :\nLive entertainment provided by Danny Murphy\n \nLate Bar\n 
URL:https://horton-lodge.org/event/saturday-20th-january-2024-burns-night/
LOCATION:Middleton Masonic Club\, Manchester Old Road\, Middleton\, M24 4DY
CATEGORIES:Events
ATTACH;FMTTYPE=image/jpeg:https://horton-lodge.org/wp-content/uploads/2019/02/Burns-Night.jpg
ORGANIZER;CN="WBro Laurence Jones":MAILTO:social@horton-lodge.org
END:VEVENT
END:VCALENDAR