BEGIN:VCALENDAR
VERSION:2.0
PRODID:-//Horton Lodge - ECPv6.2.3.2//NONSGML v1.0//EN
CALSCALE:GREGORIAN
METHOD:PUBLISH
X-WR-CALNAME:Horton Lodge
X-ORIGINAL-URL:https://horton-lodge.org
X-WR-CALDESC:Events for Horton Lodge
REFRESH-INTERVAL;VALUE=DURATION:PT1H
X-Robots-Tag:noindex
X-PUBLISHED-TTL:PT1H
BEGIN:VTIMEZONE
TZID:Europe/London
BEGIN:DAYLIGHT
TZOFFSETFROM:+0000
TZOFFSETTO:+0100
TZNAME:BST
DTSTART:20220327T010000
END:DAYLIGHT
BEGIN:STANDARD
TZOFFSETFROM:+0100
TZOFFSETTO:+0000
TZNAME:GMT
DTSTART:20221030T010000
END:STANDARD
END:VTIMEZONE
BEGIN:VEVENT
DTSTART;TZID=Europe/London:20221004T180000
DTEND;TZID=Europe/London:20221004T220000
DTSTAMP:20260419T150138
CREATED:20221130T172256Z
LAST-MODIFIED:20221130T172256Z
UID:1822-1664906400-1664920800@horton-lodge.org
SUMMARY:4th October 2022 - 3rd Degree Ceremony
DESCRIPTION:We’ll be back soon!Sorry for the inconvenience. We’re performing some maintenance at the moment. If you need to you can always follow us on Twitter for updates\, otherwise we’ll be back up shortly!
URL:https://horton-lodge.org/event/4th-october-2022-3rd-degree-ceremony/
LOCATION:Middleton Masonic Club\, Manchester Old Road\, Middleton\, M24 4DY
CATEGORIES:Archive
ATTACH;FMTTYPE=image/png:https://horton-lodge.org/wp-content/uploads/2022/11/3rd-Anthony-Burton-thumb.png
END:VEVENT
END:VCALENDAR