BEGIN:VCALENDAR
VERSION:2.0
PRODID:-//Horton Lodge - ECPv6.2.3.2//NONSGML v1.0//EN
CALSCALE:GREGORIAN
METHOD:PUBLISH
X-WR-CALNAME:Horton Lodge
X-ORIGINAL-URL:https://horton-lodge.org
X-WR-CALDESC:Events for Horton Lodge
REFRESH-INTERVAL;VALUE=DURATION:PT1H
X-Robots-Tag:noindex
X-PUBLISHED-TTL:PT1H
BEGIN:VTIMEZONE
TZID:UTC
BEGIN:STANDARD
TZOFFSETFROM:+0000
TZOFFSETTO:+0000
TZNAME:UTC
DTSTART:20220101T000000
END:STANDARD
END:VTIMEZONE
BEGIN:VEVENT
DTSTART;TZID=UTC:20221004T183000
DTEND;TZID=UTC:20221004T223000
DTSTAMP:20260420T030244
CREATED:20220922T193504Z
LAST-MODIFIED:20220922T193504Z
UID:1755-1664908200-1664922600@horton-lodge.org
SUMMARY:4th October 2022
DESCRIPTION:We’ll be back soon!Sorry for the inconvenience. We’re performing some maintenance at the moment. If you need to you can always follow us on Twitter for updates\, otherwise we’ll be back up shortly!
URL:https://horton-lodge.org/event/4th-october-2022/
LOCATION:Middleton Masonic Club\, Manchester Old Road\, Middleton\, M24 4DY
CATEGORIES:Meetings
ATTACH;FMTTYPE=image/png:https://horton-lodge.org/wp-content/uploads/2015/12/Horton-Logo.png
END:VEVENT
END:VCALENDAR