BEGIN:VCALENDAR
VERSION:2.0
PRODID:-//Horton Lodge - ECPv6.2.3.2//NONSGML v1.0//EN
CALSCALE:GREGORIAN
METHOD:PUBLISH
X-ORIGINAL-URL:https://horton-lodge.org
X-WR-CALDESC:Events for Horton Lodge
REFRESH-INTERVAL;VALUE=DURATION:PT1H
X-Robots-Tag:noindex
X-PUBLISHED-TTL:PT1H
BEGIN:VTIMEZONE
TZID:UTC
BEGIN:STANDARD
TZOFFSETFROM:+0000
TZOFFSETTO:+0000
TZNAME:UTC
DTSTART:20230101T000000
END:STANDARD
END:VTIMEZONE
BEGIN:VEVENT
DTSTART;TZID=UTC:20230307T180000
DTEND;TZID=UTC:20230307T223000
DTSTAMP:20260425T133110
CREATED:20230206T152540Z
LAST-MODIFIED:20230328T182548Z
UID:1848-1678212000-1678228200@horton-lodge.org
SUMMARY:7th March 2023
DESCRIPTION:We’ll be back soon!Sorry for the inconvenience. We’re performing some maintenance at the moment. If you need to you can always follow us on Twitter for updates\, otherwise we’ll be back up shortly!
URL:https://horton-lodge.org/event/7th-march-2023/
LOCATION:Middleton Masonic Club\, Manchester Old Road\, Middleton\, M24 4DY
CATEGORIES:Meetings
ATTACH;FMTTYPE=image/png:https://horton-lodge.org/wp-content/uploads/2015/12/Horton-Logo.png
END:VEVENT
BEGIN:VEVENT
DTSTART;TZID=UTC:20230405T180000
DTEND;TZID=UTC:20230405T223000
DTSTAMP:20260425T133110
CREATED:20230206T153437Z
LAST-MODIFIED:20230328T182443Z
UID:1845-1680717600-1680733800@horton-lodge.org
SUMMARY:5th April 2023
DESCRIPTION:We’ll be back soon!Sorry for the inconvenience. We’re performing some maintenance at the moment. If you need to you can always follow us on Twitter for updates\, otherwise we’ll be back up shortly!
URL:https://horton-lodge.org/event/5th-april-2023/
LOCATION:Middleton Masonic Club\, Manchester Old Road\, Middleton\, M24 4DY
CATEGORIES:Meetings
ATTACH;FMTTYPE=image/png:https://horton-lodge.org/wp-content/uploads/2015/12/Horton-Logo.png
END:VEVENT
BEGIN:VEVENT
DTSTART;TZID=UTC:20231003T180000
DTEND;TZID=UTC:20231003T223000
DTSTAMP:20260425T133110
CREATED:20230412T094826Z
LAST-MODIFIED:20230926T180656Z
UID:1874-1696356000-1696372200@horton-lodge.org
SUMMARY:3rd October 2023
DESCRIPTION:We’ll be back soon!Sorry for the inconvenience. We’re performing some maintenance at the moment. If you need to you can always follow us on Twitter for updates\, otherwise we’ll be back up shortly!
URL:https://horton-lodge.org/event/3rd-october-2023/
LOCATION:Middleton Masonic Club\, Manchester Old Road\, Middleton\, M24 4DY
CATEGORIES:Meetings
ATTACH;FMTTYPE=image/png:https://horton-lodge.org/wp-content/uploads/2015/12/Horton-Logo.png
END:VEVENT
BEGIN:VEVENT
DTSTART;TZID=UTC:20231107T180000
DTEND;TZID=UTC:20231107T223000
DTSTAMP:20260425T133110
CREATED:20230722T075716Z
LAST-MODIFIED:20231016T140048Z
UID:1879-1699380000-1699396200@horton-lodge.org
SUMMARY:7th November 2023
DESCRIPTION:We’ll be back soon!Sorry for the inconvenience. We’re performing some maintenance at the moment. If you need to you can always follow us on Twitter for updates\, otherwise we’ll be back up shortly!
URL:https://horton-lodge.org/event/7th-november-2023/
LOCATION:Middleton Masonic Club\, Manchester Old Road\, Middleton\, M24 4DY
CATEGORIES:Meetings
ATTACH;FMTTYPE=image/png:https://horton-lodge.org/wp-content/uploads/2015/12/Horton-Logo.png
END:VEVENT
BEGIN:VEVENT
DTSTART;TZID=UTC:20231205T180000
DTEND;TZID=UTC:20231205T223000
DTSTAMP:20260425T133110
CREATED:20230722T075911Z
LAST-MODIFIED:20231212T150543Z
UID:1880-1701799200-1701815400@horton-lodge.org
SUMMARY:5th December 2023
DESCRIPTION:We’ll be back soon!Sorry for the inconvenience. We’re performing some maintenance at the moment. If you need to you can always follow us on Twitter for updates\, otherwise we’ll be back up shortly!
URL:https://horton-lodge.org/event/5th-december-2023/
LOCATION:Middleton Masonic Club\, Manchester Old Road\, Middleton\, M24 4DY
CATEGORIES:Meetings
ATTACH;FMTTYPE=image/png:https://horton-lodge.org/wp-content/uploads/2015/12/Horton-Logo.png
END:VEVENT
BEGIN:VEVENT
DTSTART;TZID=UTC:20240102T180000
DTEND;TZID=UTC:20240102T223000
DTSTAMP:20260425T133110
CREATED:20231212T150708Z
LAST-MODIFIED:20231212T154516Z
UID:1919-1704218400-1704234600@horton-lodge.org
SUMMARY:2nd January 2024
DESCRIPTION:We’ll be back soon!Sorry for the inconvenience. We’re performing some maintenance at the moment. If you need to you can always follow us on Twitter for updates\, otherwise we’ll be back up shortly!
URL:https://horton-lodge.org/event/2nd-january-2024/
LOCATION:Middleton Masonic Club\, Manchester Old Road\, Middleton\, M24 4DY
CATEGORIES:Meetings
ATTACH;FMTTYPE=image/png:https://horton-lodge.org/wp-content/uploads/2015/12/Horton-Logo.png
END:VEVENT
BEGIN:VEVENT
DTSTART;TZID=UTC:20240206T170000
DTEND;TZID=UTC:20240206T223000
DTSTAMP:20260425T133110
CREATED:20231212T153938Z
LAST-MODIFIED:20231212T154433Z
UID:1924-1707238800-1707258600@horton-lodge.org
SUMMARY:6th February 2024
DESCRIPTION:We’ll be back soon!Sorry for the inconvenience. We’re performing some maintenance at the moment. If you need to you can always follow us on Twitter for updates\, otherwise we’ll be back up shortly!
URL:https://horton-lodge.org/event/6th-february-2023/
LOCATION:Middleton Masonic Club\, Manchester Old Road\, Middleton\, M24 4DY
CATEGORIES:Meetings
ATTACH;FMTTYPE=image/png:https://horton-lodge.org/wp-content/uploads/2015/12/Horton-Logo.png
END:VEVENT
BEGIN:VEVENT
DTSTART;TZID=UTC:20240305T180000
DTEND;TZID=UTC:20240305T223000
DTSTAMP:20260425T133110
CREATED:20240222T154148Z
LAST-MODIFIED:20240423T144107Z
UID:1937-1709661600-1709677800@horton-lodge.org
SUMMARY:5th March 2024
DESCRIPTION:We’ll be back soon!Sorry for the inconvenience. We’re performing some maintenance at the moment. If you need to you can always follow us on Twitter for updates\, otherwise we’ll be back up shortly!
URL:https://horton-lodge.org/event/5th-march-2025/
LOCATION:Middleton Masonic Club\, Manchester Old Road\, Middleton\, M24 4DY
CATEGORIES:Meetings
ATTACH;FMTTYPE=image/png:https://horton-lodge.org/wp-content/uploads/2015/12/Horton-Logo.png
END:VEVENT
BEGIN:VEVENT
DTSTART;TZID=UTC:20240402T180000
DTEND;TZID=UTC:20240402T223000
DTSTAMP:20260425T133110
CREATED:20240423T142420Z
LAST-MODIFIED:20240423T143530Z
UID:1967-1712080800-1712097000@horton-lodge.org
SUMMARY:2nd April 2024
DESCRIPTION:We’ll be back soon!Sorry for the inconvenience. We’re performing some maintenance at the moment. If you need to you can always follow us on Twitter for updates\, otherwise we’ll be back up shortly!
URL:https://horton-lodge.org/event/2nd-april-2024/
LOCATION:Middleton Masonic Club\, Manchester Old Road\, Middleton\, M24 4DY
CATEGORIES:Meetings
ATTACH;FMTTYPE=image/png:https://horton-lodge.org/wp-content/uploads/2015/12/Horton-Logo.png
END:VEVENT
BEGIN:VEVENT
DTSTART;TZID=UTC:20240507T180000
DTEND;TZID=UTC:20240507T223000
DTSTAMP:20260425T133110
CREATED:20240423T143306Z
LAST-MODIFIED:20240423T143433Z
UID:1969-1715104800-1715121000@horton-lodge.org
SUMMARY:7th May 2024
DESCRIPTION:We’ll be back soon!Sorry for the inconvenience. We’re performing some maintenance at the moment. If you need to you can always follow us on Twitter for updates\, otherwise we’ll be back up shortly!
URL:https://horton-lodge.org/event/7th-may-2024/
LOCATION:Middleton Masonic Club\, Manchester Old Road\, Middleton\, M24 4DY
CATEGORIES:Meetings
ATTACH;FMTTYPE=image/png:https://horton-lodge.org/wp-content/uploads/2015/12/Horton-Logo.png
END:VEVENT
END:VCALENDAR