BEGIN:VCALENDAR
VERSION:2.0
PRODID:-//Horton Lodge - ECPv6.2.3.2//NONSGML v1.0//EN
CALSCALE:GREGORIAN
METHOD:PUBLISH
X-ORIGINAL-URL:https://horton-lodge.org
X-WR-CALDESC:Events for Horton Lodge
REFRESH-INTERVAL;VALUE=DURATION:PT1H
X-Robots-Tag:noindex
X-PUBLISHED-TTL:PT1H
BEGIN:VTIMEZONE
TZID:UTC
BEGIN:STANDARD
TZOFFSETFROM:+0000
TZOFFSETTO:+0000
TZNAME:UTC
DTSTART:20210101T000000
END:STANDARD
END:VTIMEZONE
BEGIN:VEVENT
DTSTART;TZID=UTC:20211005T183000
DTEND;TZID=UTC:20211005T220000
DTSTAMP:20260426T041411
CREATED:20211210T100024Z
LAST-MODIFIED:20211210T100024Z
UID:1636-1633458600-1633471200@horton-lodge.org
SUMMARY:5th October 2021
DESCRIPTION:Dear Sir and Brother\,  \nBy command of the Worshipful Master\, Bro Laurence Jones\, I request your attendance at the Regular Meeting of this Lodge at Middleton Masonic Club\, Manchester Old Road\, Middleton\, Manchester\, M24 4DY \nDARK SUIT - WHITE GLOVES \nIf you are a mason and interested in visiting Horton Lodge please contact our Lodge Secretary who will be pleased to help. \n\nSOCIAL BOARD MENU \n\n\nStarter - TBA\nMain - TBA\nDessert - TBA\n\n\n\nTyle at 6:30pm\n  \nBUSINESS \n\n\nTo open the Lodge\nTo read and if approved confirm the minutes of the last Regular Meeting\nTBA\nAlmoner’s report\nDistrict Representative’s report\nDirector's report\nTo collect Alms\nTo transact any other business\nTo close the Lodge\n\n\nThe next meeting of Provincial Grand Lodge after this lodge meeting will be in 18th November 2021 at King George's Hall\, Blackburn \n\nWorshipful Master and IPM 2021 - 2022 \n\n\n\nWBro Laurence Jones\nWorshipful Master\n\n\n\nIPM\n\n\n\nOFFICERS 2020 - 2021 \n\n\n\n\nSenior Warden\n\n\n\nJunior Warden\n\n\n\nChaplain\n\n\n\nTreasurer\n\n\nWBro Roger Norris\nSecretary\n\n\n\nAssistant Secretary\n\n\n\nDirector of Ceremonies\n\n\n\nAlmoner\n\n\nWBro Roger Norris\nCharity Steward\n\n\n\nLodge Mentor\n\n\n\nSenior Deacon\n\n\n\nJunior Deacon\n\n\n\nInner Guard\n\n\n\n\n\n\n\nTyler\n\n\n\n\n\n\nWBro Laurence Jones\nDistrict Representative
URL:https://horton-lodge.org/event/5th-october-2021/
LOCATION:Middleton Masonic Club\, Manchester Old Road\, Middleton\, M24 4DY
CATEGORIES:Meetings
ATTACH;FMTTYPE=image/png:https://horton-lodge.org/wp-content/uploads/2015/12/Horton-Logo.png
END:VEVENT
END:VCALENDAR