BEGIN:VCALENDAR
VERSION:2.0
PRODID:-//Horton Lodge - ECPv6.2.3.2//NONSGML v1.0//EN
CALSCALE:GREGORIAN
METHOD:PUBLISH
X-WR-CALNAME:Horton Lodge
X-ORIGINAL-URL:https://horton-lodge.org
X-WR-CALDESC:Events for Horton Lodge
REFRESH-INTERVAL;VALUE=DURATION:PT1H
X-Robots-Tag:noindex
X-PUBLISHED-TTL:PT1H
BEGIN:VTIMEZONE
TZID:Europe/London
BEGIN:DAYLIGHT
TZOFFSETFROM:+0000
TZOFFSETTO:+0100
TZNAME:BST
DTSTART:20210328T010000
END:DAYLIGHT
BEGIN:STANDARD
TZOFFSETFROM:+0100
TZOFFSETTO:+0000
TZNAME:GMT
DTSTART:20211031T010000
END:STANDARD
TZID:UTC
BEGIN:STANDARD
TZOFFSETFROM:+0000
TZOFFSETTO:+0000
TZNAME:UTC
DTSTART:20210101T000000
END:STANDARD
END:VTIMEZONE
BEGIN:VEVENT
DTSTART;TZID=Europe/London:20211102T180000
DTEND;TZID=Europe/London:20211102T220000
DTSTAMP:20260426T023716
CREATED:20221130T163536Z
LAST-MODIFIED:20221130T172454Z
UID:1811-1635876000-1635890400@horton-lodge.org
SUMMARY:2nd November 2021 - 2nd Degree Ceremony
DESCRIPTION: \nBro Anthony Burton was passed to the 2nd Degree in Freemasonry at a Horton Lodge ceremony held on Tuesday 2nd November 2021.\n \nThe Ceremony was conducted by Horton Lodge's Worshipful Master Laurence Jones.\n  \n\n\nPhoto : WM Laurence Jones\, Bro Anthony Burton\, APGM Wbro Peter Rhodes\nPhoto : Bro Anthony Burton\n \n 
URL:https://horton-lodge.org/event/2nd-november-2022-initiation-of-a-new-candidate/
LOCATION:Middleton Masonic Club\, Manchester Old Road\, Middleton\, M24 4DY
CATEGORIES:Archive
ATTACH;FMTTYPE=image/jpeg:https://horton-lodge.org/wp-content/uploads/2022/11/2nd-Anthony-Burton-thumb.jpg
END:VEVENT
BEGIN:VEVENT
DTSTART;TZID=UTC:20211102T183000
DTEND;TZID=UTC:20211102T220000
DTSTAMP:20260426T023716
CREATED:20211210T100306Z
LAST-MODIFIED:20211210T100735Z
UID:1635-1635877800-1635890400@horton-lodge.org
SUMMARY:2nd November 2021
DESCRIPTION:Dear Sir and Brother\,  \nBy command of the Worshipful Master\, Bro Laurence Jones\, I request your attendance at the Regular Meeting of this Lodge at Middleton Masonic Club\, Manchester Old Road\, Middleton\, Manchester\, M24 4DY \nDARK SUIT - WHITE GLOVES \nIf you are a mason and interested in visiting Horton Lodge please contact our Lodge Secretary who will be pleased to help. \n\nSOCIAL BOARD MENU \n\n\nStarter - TBA\nMain - TBA\nDessert - TBA\n\n\n\nTyle at 6:30pm\n  \nBUSINESS \n\n\nTo open the Lodge\nTo read and if approved confirm the minutes of the last Regular Meeting\nTo pass a brother to the second degree\nTBA\nAlmoner’s report\nDistrict Representative’s report\nDirector's report\nTo collect Alms\nTo transact any other business\nTo close the Lodge\n\n\nThe next meeting of Provincial Grand Lodge after this lodge meeting will be in 18th November 2021 at King George's Hall\, Blackburn \n\nWorshipful Master and IPM 2021 - 2022 \n\n\n\nWBro Laurence Jones\nWorshipful Master\n\n\n\nIPM\n\n\n\nOFFICERS 2020 - 2021 \n\n\n\n\nSenior Warden\n\n\n\nJunior Warden\n\n\n\nChaplain\n\n\n\nTreasurer\n\n\nWBro Roger Norris\nSecretary\n\n\n\nAssistant Secretary\n\n\n\nDirector of Ceremonies\n\n\n\nAlmoner\n\n\nWBro Roger Norris\nCharity Steward\n\n\n\nLodge Mentor\n\n\n\nSenior Deacon\n\n\n\nJunior Deacon\n\n\n\nInner Guard\n\n\n\n\n\n\n\nTyler\n\n\n\n\n\n\nWBro Laurence Jones\nDistrict Representative
URL:https://horton-lodge.org/event/2nd-november-2021/
LOCATION:Middleton Masonic Club\, Manchester Old Road\, Middleton\, M24 4DY
CATEGORIES:Meetings
ATTACH;FMTTYPE=image/png:https://horton-lodge.org/wp-content/uploads/2015/12/Horton-Logo.png
END:VEVENT
BEGIN:VEVENT
DTSTART;TZID=UTC:20211120T180000
DTEND;TZID=UTC:20211120T233000
DTSTAMP:20260426T023716
CREATED:20190218T140819Z
LAST-MODIFIED:20211018T110723Z
UID:1244-1637431200-1637451000@horton-lodge.org
SUMMARY:20th November 2021 - Ladies Evening
DESCRIPTION: \nHORTON LODGE 8528 - Ladies Evening 2021\n \nThe Worshipful Master\, Bro Laurence Jones\, and his good lady Amanda\, are pleased to invite you to Horton Lodge's 2021 Ladies Evening. \nSaturday 20th November 2021 \n6:00 p.m. for 6:30 p.m. \n \n\nBanquet Menu \n\n\n\nStarter\n\nChoice A \n \nor\n  \nChoice B \n\nRoasted Stuffed Mushrooms\nServed on a bed of seasonal salad leaves and sun dried tomatoes\n \n \n \nSweet Melon and Parma Ham\nServed with wild rocket and rapeseed dressing\n \n\n\n\n\n\n\nMain Course\n\nChoice C \n \nor\n  \nChoice D \n\nBeef Olive\nServed on a bed of puree potatoes and a ruby port gravy\, with buttered cabbage and baton carrots\n \n \nGinger Salmon\nServed with a grilled corn and watercress salad\n \n\n\n\n\n\n\nDesert\n\nChoice E \n \nor\n  \nChoice F \n\nWhite Chocolate and Raspberry Roulade\nWhite chocolate mouse with raspberries\, encased by sponge in a crisp chocolate\n \n \n \nCrème Brulee\nA rich custard base topped with a layer of hardened caramelized sugar\n \n\n\n\n\n\n\n\nFollowed by\n\nCoffee and Mints\n\n\n\n\nTickets £27.50 per person - please contact social@horton-lodge.org\n \nAfter Dinner Entertainment\nTBA\n\n 
URL:https://horton-lodge.org/event/20211120-2/
LOCATION:Middleton Masonic Club\, Manchester Old Road\, Middleton\, M24 4DY
CATEGORIES:Events
ATTACH;FMTTYPE=image/jpeg:https://horton-lodge.org/wp-content/uploads/2019/02/ladies_night-resized.jpg
ORGANIZER;CN="WBro Laurence Jones":MAILTO:social@horton-lodge.org
END:VEVENT
END:VCALENDAR