BEGIN:VCALENDAR
VERSION:2.0
PRODID:-//Horton Lodge - ECPv6.2.3.2//NONSGML v1.0//EN
CALSCALE:GREGORIAN
METHOD:PUBLISH
X-ORIGINAL-URL:https://horton-lodge.org
X-WR-CALDESC:Events for Horton Lodge
REFRESH-INTERVAL;VALUE=DURATION:PT1H
X-Robots-Tag:noindex
X-PUBLISHED-TTL:PT1H
BEGIN:VTIMEZONE
TZID:UTC
BEGIN:STANDARD
TZOFFSETFROM:+0000
TZOFFSETTO:+0000
TZNAME:UTC
DTSTART:20220101T000000
END:STANDARD
TZID:Europe/London
BEGIN:DAYLIGHT
TZOFFSETFROM:+0000
TZOFFSETTO:+0100
TZNAME:BST
DTSTART:20220327T010000
END:DAYLIGHT
BEGIN:STANDARD
TZOFFSETFROM:+0100
TZOFFSETTO:+0000
TZNAME:GMT
DTSTART:20221030T010000
END:STANDARD
END:VTIMEZONE
BEGIN:VEVENT
DTSTART;TZID=UTC:20220201T170000
DTEND;TZID=UTC:20220201T223000
DTSTAMP:20260425T224253
CREATED:20211210T095619Z
LAST-MODIFIED:20220218T145956Z
UID:1632-1643734800-1643754600@horton-lodge.org
SUMMARY:1st February 2022
DESCRIPTION: \n  \n\n \nDear Sir and Brother\, \nBy command of the Worshipful Master\, Bro Laurence Jones\, I request your attendance at the Regular Meeting of this Lodge at Middleton Masonic Club\, Manchester Old Road\, Middleton\, Manchester\, M24 4DY \nIf you are a mason and interested in visiting Horton Lodge please contact our Lodge Secretary who will be pleased to help. \n\n \nDINNER SUIT with BLACK BOW TIE (not coloured) - WHITE GLOVES \nPlease note we Tyle at 5:00pm \nBUSINESS \n\nTo open the Lodge\nTo read and if approved confirm the minutes of the last Regular Meeting\nTo Ballot for a joining member\, and for a Candidate for Initiation\nTo make a donation to charity\nTo receive the representative of the Deputy Provincial Grand Master in Charge\nThe Festival of St John and the Installation of the Master Elect Bro Adam Mooney\nTo Appoint and Invest Officers\nProposition to donate to charity\nProposition to donate to charity\nTo make a presentation to the representative of the Deputy Provincial Grand Master in Charge\nAlmoner’s report\nDistrict Representative’s report\nDirector's report\nTo collect Alms\nTo transact any other business\nTo close the Lodge\n\nThe next meeting of Provincial Grand Lodge after this lodge meeting will be in 17th November 2022 at King George's Hall\, Blackburn \n\n  \n\n\n \nSocial Board Menu \n\nStarter : Minestrone Soup\n          Creamy Garlic Mushrooms\nMain : Braised Steak with red wine and wild mushrooms\nDesert : Sticky Toffee Pudding\nFollowed by Cheese and Biscuits\, and Tea and Coffee\n\n\nPlease inform the Lodge Secretary of any dietary requirements a minimum of 7 days prior to the lodge meeting \n \n\n \nWorshipful Master and IPM 2020 - 2022 \n\n\n\nBro Laurence Jones\nWorshipful Master\n\n\nWBro Ray Taylor\nIPM\n\n\n\nOFFICERS 2020 - 2021 \n\n\n\nBro Adam Mooney\nSenior Warden\n\n\nWBro Steve Walker\nJunior Warden\n\n\nWBro Albert Minshul\nChaplain\n\n\nWBro Derek Andrews\nTreasurer\n\n\nWBro Roger Norris\nSecretary\n\n\nWBro Neil Brown\nDirector of Ceremonies\n\n\nWBro Ray Taylor\nAlmoner\n\n\nWBro Roger Norris\nCharity Steward\n\n\nWbro Jimmy Burns\nLodge Mentor\n\n\n \nSenior Deacon\n\n\nBro Ian Duncan\nJunior Deacon\n\n\nBro Robin Whalley\nAssistant Secretary\n\n\nBro Anthony Burton\nInner Guard\n\n\n\n\n\n\nWBro Gordon Cox\nTyler\n\n\n\n\n\n\nBro Laurence Jones\nDistrict Representative
URL:https://horton-lodge.org/event/1st-february-2022/
LOCATION:Middleton Masonic Club\, Manchester Old Road\, Middleton\, M24 4DY
CATEGORIES:Meetings
ATTACH;FMTTYPE=image/png:https://horton-lodge.org/wp-content/uploads/2015/12/Horton-Logo.png
END:VEVENT
BEGIN:VEVENT
DTSTART;TZID=Europe/London:20220201T173000
DTEND;TZID=Europe/London:20220201T220000
DTSTAMP:20260425T224253
CREATED:20220217T221155Z
LAST-MODIFIED:20221130T155924Z
UID:1712-1643736600-1643752800@horton-lodge.org
SUMMARY:Tuesday 1st February 2022 - Festival of St John
DESCRIPTION: \nMaster Elect\, Brother Adam Mooney\, was installed as Worshipful Master of Horton Lodge 8528 on Tuesday 1st February 2022\n \n \nHorton Lodge celebrated the Festival of St John at their meeting which started at 17:30 at Middleton Masonic Hall.  The lodge room was well attended by  members of Horton Lodge and visiting brethren from other local Lodges. \n \nPhoto : Worshipful Master 2022 - 2023 : Bro Adam Mooney\n \n 
URL:https://horton-lodge.org/event/tuesday-1st-february-2022-festival-of-st-john/
LOCATION:Middleton Masonic Club\, Manchester Old Road\, Middleton\, M24 4DY
CATEGORIES:Archive
ATTACH;FMTTYPE=image/png:https://horton-lodge.org/wp-content/uploads/2022/02/WM-Adam-Mooney-thumb.png
END:VEVENT
END:VCALENDAR