BEGIN:VCALENDAR
VERSION:2.0
PRODID:-//Horton Lodge - ECPv6.2.3.2//NONSGML v1.0//EN
CALSCALE:GREGORIAN
METHOD:PUBLISH
X-ORIGINAL-URL:https://horton-lodge.org
X-WR-CALDESC:Events for Horton Lodge
REFRESH-INTERVAL;VALUE=DURATION:PT1H
X-Robots-Tag:noindex
X-PUBLISHED-TTL:PT1H
BEGIN:VTIMEZONE
TZID:UTC
BEGIN:STANDARD
TZOFFSETFROM:+0000
TZOFFSETTO:+0000
TZNAME:UTC
DTSTART:20230101T000000
END:STANDARD
END:VTIMEZONE
BEGIN:VEVENT
DTSTART;TZID=UTC:20230401T190000
DTEND;TZID=UTC:20230401T233000
DTSTAMP:20260425T002829
CREATED:20220309T181310Z
LAST-MODIFIED:20230117T132350Z
UID:1734-1680375600-1680391800@horton-lodge.org
SUMMARY:1st April 2023 - Quiz Night with Fish & Chips Supper
DESCRIPTION:Horton Lodge is pleased to announce\, after 2 years absence\, we will again be holding our family Quiz Night.  It will be held on Saturday 1st April 2023 at Middleton Masonic Hall\, where everyone is welcome to come and join us.  Previous year's Quiz Nights have been very successful\, and we're hoping for the same this year. \nThere is a Fish and Chips Supper included \nTickets are available now : Click Here to Buy Tickets Online \nDress Code is Smart Casual \nTicket price is just £10 per person \nThere will be a Raffle (donation welcome)
URL:https://horton-lodge.org/event/2nd-april-2022-quiz-night-with-supper/
LOCATION:Middleton Masonic Club\, Manchester Old Road\, Middleton\, M24 4DY
CATEGORIES:Events
ATTACH;FMTTYPE=image/jpeg:https://horton-lodge.org/wp-content/uploads/2019/02/Quiz-Night.jpg
ORGANIZER;CN="WBro Laurence Jones":MAILTO:social@horton-lodge.org
END:VEVENT
BEGIN:VEVENT
DTSTART;TZID=UTC:20230405T180000
DTEND;TZID=UTC:20230405T223000
DTSTAMP:20260425T002830
CREATED:20230206T153437Z
LAST-MODIFIED:20230328T182443Z
UID:1845-1680717600-1680733800@horton-lodge.org
SUMMARY:5th April 2023
DESCRIPTION: \n  \n\n \nDear Sir and Brother\, \nBy command of the Worshipful Master\, Bro Adam Mooney\, I request your attendance at the Regular Meeting of this Lodge at Middleton Masonic Club\, Manchester Old Road\, Middleton\, Manchester\, M24 4DY \nIf you are a mason and interested in visiting Horton Lodge please contact our Lodge Secretary who will be pleased to help. \n\n \nDARK SUIT - WHITE GLOVES \nPlease note we Tyle at 6:00pm \n\n \nBUSINESS \n\nTo open the Lodge\nTo read and if approved confirm the minutes of the last Regular Meeting\nRaising a Brother to the 3rd Degree\nAlmoner’s report\nDistrict Representative’s report\nDirector's report\nTo collect Alms\nTo transact any other business\nTo close the Lodge\n\n\nThe next meeting of Provincial Grand Lodge after this lodge meeting will be in 16th November 2023 at King George's Hall\, Blackburn \n\n  \n\n\n \nSocial Board Menu \n\nStarter : Garlic Mushrooms\nMain : Lasagne\nDesert : Profiteroles\nFollowed Tea and Coffee\n\n\nPlease inform the Lodge Secretary of any dietary requirements a minimum of 7 days prior to the lodge meeting \n \n\n \nWorshipful Master and IPM 2023 - 2024 \n\n\n\nBro Adam Mooney\nWorshipful Master\n\n\nWBro Laurence Jones\nIPM\n\n\n\nOFFICERS 2023 - 2024 \n\n\n\nWBro Ray Taylor\nSenior Warden\n\n\nBro Ian Duncan\nJunior Warden\n\n\nWBro Laurence Jones\nChaplain\n\n\nWBro Derek Andrews\nTreasurer\n\n\nWBro Roger Norris\nSecretary\n\n\nWBro Neil Brown\nDirector of Ceremonies\n\n\nWBro Ray Taylor\nAlmoner\n\n\nBro Ian Duncan\nCharity Steward\n\n\nWbro Jimmy Burns\nLodge Mentor\n\n\nBro Anthony Burton\nSenior Deacon\n\n\nWBro Bob Wall\nJunior Deacon\n\n\nBro Robin Whalley\nAssistant Secretary\n\n\nBro Duncan Bray\nInner Guard\n\n\nWBro Gordon Cox\nTyler\n\n\nWBro Laurence Jones\nDistrict Representative\n\n\n\n \n \n \n&nbsp:
URL:https://horton-lodge.org/event/5th-april-2023/
LOCATION:Middleton Masonic Club\, Manchester Old Road\, Middleton\, M24 4DY
CATEGORIES:Meetings
ATTACH;FMTTYPE=image/png:https://horton-lodge.org/wp-content/uploads/2015/12/Horton-Logo.png
END:VEVENT
END:VCALENDAR