BEGIN:VCALENDAR
VERSION:2.0
PRODID:-//Horton Lodge - ECPv6.2.3.2//NONSGML v1.0//EN
CALSCALE:GREGORIAN
METHOD:PUBLISH
X-WR-CALNAME:Horton Lodge
X-ORIGINAL-URL:https://horton-lodge.org
X-WR-CALDESC:Events for Horton Lodge
REFRESH-INTERVAL;VALUE=DURATION:PT1H
X-Robots-Tag:noindex
X-PUBLISHED-TTL:PT1H
BEGIN:VTIMEZONE
TZID:Europe/London
BEGIN:DAYLIGHT
TZOFFSETFROM:+0000
TZOFFSETTO:+0100
TZNAME:BST
DTSTART:20240331T010000
END:DAYLIGHT
BEGIN:STANDARD
TZOFFSETFROM:+0100
TZOFFSETTO:+0000
TZNAME:GMT
DTSTART:20241027T010000
END:STANDARD
TZID:UTC
BEGIN:STANDARD
TZOFFSETFROM:+0000
TZOFFSETTO:+0000
TZNAME:UTC
DTSTART:20240101T000000
END:STANDARD
END:VTIMEZONE
BEGIN:VEVENT
DTSTART;TZID=Europe/London:20240206T170000
DTEND;TZID=Europe/London:20240206T220000
DTSTAMP:20260424T094132
CREATED:20240222T162528Z
LAST-MODIFIED:20240222T162803Z
UID:1960-1707238800-1707256800@horton-lodge.org
SUMMARY:Tuesday 6th February 2023 - Festival of St John
DESCRIPTION: \nMaster Elect\, Worshipful Brother Laurence Jones\, was installed as Worshipful Master of Horton Lodge 8528 on Tuesday 6th February 2024\n \n \nHorton Lodge celebrated the Festival of St John at their meeting which started at 17:00 at Middleton Masonic Hall.  The lodge room was well attended by  members of Horton Lodge and 45 visiting brethren from other local Lodges from various Masonic Provinces. \n \nWBro Laurence Jones\nWorshipful Master 2024 - 2025 \n \n 
URL:https://horton-lodge.org/event/tuesday-6th-february-2023-festival-of-st-john/
LOCATION:Middleton Masonic Club\, Manchester Old Road\, Middleton\, M24 4DY
CATEGORIES:Archive
ATTACH;FMTTYPE=image/jpeg:https://horton-lodge.org/wp-content/uploads/2024/02/WM-Laurence-Jones-thumb-2.jpg
END:VEVENT
BEGIN:VEVENT
DTSTART;TZID=UTC:20240206T170000
DTEND;TZID=UTC:20240206T223000
DTSTAMP:20260424T094132
CREATED:20231212T153938Z
LAST-MODIFIED:20231212T154433Z
UID:1924-1707238800-1707258600@horton-lodge.org
SUMMARY:6th February 2024
DESCRIPTION: \n  \n\n  \nDear Sir and Brother\, \nBy command of the Worshipful Master\, Bro Adam Mooney\, I request your attendance at the Regular Meeting of this Lodge at Middleton Masonic Club\, Manchester Old Road\, Middleton\, Manchester\, M24 4DY \nIf you are a mason and interested in visiting Horton Lodge please contact our Lodge Secretary who will be pleased to help. \n\n \nDINNER SUIT with BLACK BOW TIE (not coloured) - WHITE GLOVES \nPlease note we Tyle at 5:00pm \nBUSINESS \n\nTo open the Lodge\nTo read and if approved confirm the minutes of the last Regular Meeting\nTo receive the representative of the RW Provincial Grand Master\nTo Install Wbro Laurence Jones as Worshipful Master for the ensuing year\nTo Appoint and Invest Officers\nBallot for a candidate to be initiated\nAlmoner’s report\nDistrict Representative’s report\nDirector's report\nTo collect Alms\nTo transact any other business\nTo close the Lodge\n\nThe next meeting of Provincial Grand Lodge after this lodge meeting will be in 17th November 2024 at King George's Hall\, Blackburn \n\n  \n\n\n \nSocial Board Menu \n\nStarter : Haggis\, Neaps and Tatties\nMain : Beef Tenderloin Medallions in a mushroom sauce\,\n served with dauphinoise potatoes and a selection of green vegetables\nDesert : Tiramisu\nFollowed by Coffee and After Eight Mints\n\n\nPlease inform the Lodge Secretary of any dietary requirements a minimum of 7 days prior to the lodge meeting \n \n\n \nWorshipful Master and IPM 2023 - 2024 \n\n\n\nBro Adam Mooney\nWorshipful Master\n\n\nWBro Laurence Jones\nIPM\n\n\n\nOFFICERS 2023 - 2024 \n\n\n\nTBC at Installation\nSenior Warden\n\n\nTBC at Installation\nJunior Warden\n\n\nWBro Laurence Jones\nChaplain\n\n\nWBro Derek Andrews\nTreasurer\n\n\nWBro Roger Norris\nSecretary\n\n\nWBro Neil Brown\nDirector of Ceremonies\n\n\nWBro Ray Taylor\nAlmoner\n\n\nBro Ian Duncan (TBC at Installation)\nCharity Steward\n\n\nWBro Jimmy Burns (TBC at Installation)\nLodge Mentor\n\n\nTBC at Installation\nSenior Deacon\n\n\nTBC at Installation\nJunior Deacon\n\n\nTBC at Installation\nAssistant DC\n\n\nBro Robin Whalley\nAssistant Secretary\n\n\nTBC at Installation\nInner Guard\n\n\n\n\n\n\nWBro Gordon Cox\nTyler\n\n\n\n\n\n\nBro Laurence Jones\nDistrict Representative
URL:https://horton-lodge.org/event/6th-february-2023/
LOCATION:Middleton Masonic Club\, Manchester Old Road\, Middleton\, M24 4DY
CATEGORIES:Meetings
ATTACH;FMTTYPE=image/png:https://horton-lodge.org/wp-content/uploads/2015/12/Horton-Logo.png
END:VEVENT
END:VCALENDAR